BEGIN:VCALENDAR
VERSION:2.0
PRODID:-//Asociatia Prematurilor - ECPv6.15.20//NONSGML v1.0//EN
CALSCALE:GREGORIAN
METHOD:PUBLISH
X-WR-CALNAME:Asociatia Prematurilor
X-ORIGINAL-URL:https://asociatiaprematurilor.ro
X-WR-CALDESC:Evenimente pentru Asociatia Prematurilor
REFRESH-INTERVAL;VALUE=DURATION:PT1H
X-Robots-Tag:noindex
X-PUBLISHED-TTL:PT1H
BEGIN:VTIMEZONE
TZID:UTC
BEGIN:STANDARD
TZOFFSETFROM:+0000
TZOFFSETTO:+0000
TZNAME:UTC
DTSTART:20250101T000000
END:STANDARD
END:VTIMEZONE
BEGIN:VEVENT
DTSTART;VALUE=DATE:20260321
DTEND;VALUE=DATE:20260322
DTSTAMP:20260423T040214
CREATED:20210921T121628Z
LAST-MODIFIED:20251001T110651Z
UID:3910-1774051200-1774137599@asociatiaprematurilor.ro
SUMMARY:Ziua Mondiala a Poeziei
DESCRIPTION:
URL:https://asociatiaprematurilor.ro/event/ziua-mondiala-a-poeziei/
CATEGORIES:Zile Internationale
ATTACH;FMTTYPE=image/png:https://asociatiaprematurilor.ro/wp-content/uploads/2021/09/ZIUA-MONDIALA-A-POEZIEI-2.png
END:VEVENT
BEGIN:VEVENT
DTSTART;VALUE=DATE:20260321
DTEND;VALUE=DATE:20260322
DTSTAMP:20260423T040214
CREATED:20210921T121653Z
LAST-MODIFIED:20251001T110646Z
UID:3911-1774051200-1774137599@asociatiaprematurilor.ro
SUMMARY:Ziua Mondiala a Sindromului Down
DESCRIPTION:
URL:https://asociatiaprematurilor.ro/event/ziua-mondiala-a-sindromului-down/
CATEGORIES:Zile Internationale
END:VEVENT
END:VCALENDAR