BEGIN:VCALENDAR
VERSION:2.0
PRODID:-//Asociatia Prematurilor - ECPv6.15.20//NONSGML v1.0//EN
CALSCALE:GREGORIAN
METHOD:PUBLISH
X-ORIGINAL-URL:https://asociatiaprematurilor.ro
X-WR-CALDESC:Evenimente pentru Asociatia Prematurilor
REFRESH-INTERVAL;VALUE=DURATION:PT1H
X-Robots-Tag:noindex
X-PUBLISHED-TTL:PT1H
BEGIN:VTIMEZONE
TZID:UTC
BEGIN:STANDARD
TZOFFSETFROM:+0000
TZOFFSETTO:+0000
TZNAME:UTC
DTSTART:20250101T000000
END:STANDARD
END:VTIMEZONE
BEGIN:VEVENT
DTSTART;VALUE=DATE:20260303
DTEND;VALUE=DATE:20260304
DTSTAMP:20260424T100033
CREATED:20210921T120834Z
LAST-MODIFIED:20251001T110710Z
UID:3905-1772496000-1772582399@asociatiaprematurilor.ro
SUMMARY:Ziua Internationala a malformatiilor congenitale
DESCRIPTION:
URL:https://asociatiaprematurilor.ro/event/ziua-internationala-a-malformatiilor-congenitale/
CATEGORIES:Zile Internationale
END:VEVENT
END:VCALENDAR