BEGIN:VCALENDAR
VERSION:2.0
PRODID:-//Asociatia Prematurilor - ECPv6.15.20//NONSGML v1.0//EN
CALSCALE:GREGORIAN
METHOD:PUBLISH
X-WR-CALNAME:Asociatia Prematurilor
X-ORIGINAL-URL:https://asociatiaprematurilor.ro
X-WR-CALDESC:Evenimente pentru Asociatia Prematurilor
REFRESH-INTERVAL;VALUE=DURATION:PT1H
X-Robots-Tag:noindex
X-PUBLISHED-TTL:PT1H
BEGIN:VTIMEZONE
TZID:UTC
BEGIN:STANDARD
TZOFFSETFROM:+0000
TZOFFSETTO:+0000
TZNAME:UTC
DTSTART:20240101T000000
END:STANDARD
END:VTIMEZONE
BEGIN:VEVENT
DTSTART;VALUE=DATE:20251001
DTEND;VALUE=DATE:20251002
DTSTAMP:20260424T225758
CREATED:20210921T123817Z
LAST-MODIFIED:20251001T110834Z
UID:3962-1759276800-1759363199@asociatiaprematurilor.ro
SUMMARY:Ziua Europeana a Fundatiilor si Donatorilor
DESCRIPTION:
URL:https://asociatiaprematurilor.ro/event/ziua-europeana-a-fundatiilor-si-donatorilor/
CATEGORIES:Zile Internationale
END:VEVENT
BEGIN:VEVENT
DTSTART;VALUE=DATE:20251001
DTEND;VALUE=DATE:20251002
DTSTAMP:20260424T225758
CREATED:20210921T123847Z
LAST-MODIFIED:20251001T110829Z
UID:3963-1759276800-1759363199@asociatiaprematurilor.ro
SUMMARY:Ziua Zambetului
DESCRIPTION:
URL:https://asociatiaprematurilor.ro/event/ziua-zambetului/
CATEGORIES:Zile Internationale
ATTACH;FMTTYPE=image/png:https://asociatiaprematurilor.ro/wp-content/uploads/2021/09/Ziua-Internationaala-a-Zambetului.png
END:VEVENT
BEGIN:VEVENT
DTSTART;VALUE=DATE:20251001
DTEND;VALUE=DATE:20251002
DTSTAMP:20260424T225758
CREATED:20210921T123925Z
LAST-MODIFIED:20251001T110825Z
UID:3973-1759276800-1759363199@asociatiaprematurilor.ro
SUMMARY:Ziua Internationala a Sindromului ADHD
DESCRIPTION:
URL:https://asociatiaprematurilor.ro/event/ziua-internationala-a-sindromului-adhd/
CATEGORIES:Zile Internationale
END:VEVENT
BEGIN:VEVENT
DTSTART;VALUE=DATE:20251006
DTEND;VALUE=DATE:20251007
DTSTAMP:20260424T225758
CREATED:20210921T123947Z
LAST-MODIFIED:20251001T110821Z
UID:3974-1759708800-1759795199@asociatiaprematurilor.ro
SUMMARY:Ziua Internationala a Paraliziei Celebrale
DESCRIPTION:
URL:https://asociatiaprematurilor.ro/event/ziua-internationala-a-paraliziei-celebrale/
CATEGORIES:Zile Internationale
END:VEVENT
BEGIN:VEVENT
DTSTART;VALUE=DATE:20251011
DTEND;VALUE=DATE:20251012
DTSTAMP:20260424T225758
CREATED:20210921T124002Z
LAST-MODIFIED:20251001T110817Z
UID:3975-1760140800-1760227199@asociatiaprematurilor.ro
SUMMARY:Ziua Internațională a Fetelor
DESCRIPTION:
URL:https://asociatiaprematurilor.ro/event/ziua-internationala-a-fetelor/
CATEGORIES:Zile Internationale
END:VEVENT
BEGIN:VEVENT
DTSTART;TZID=UTC:20251014T080000
DTEND;TZID=UTC:20251014T170000
DTSTAMP:20260424T225758
CREATED:20210921T124018Z
LAST-MODIFIED:20251001T110813Z
UID:3976-1760428800-1760461200@asociatiaprematurilor.ro
SUMMARY:Ziua Internationala a Vederii
DESCRIPTION:
URL:https://asociatiaprematurilor.ro/event/ziua-internationala-a-vederii/
CATEGORIES:Zile Internationale
END:VEVENT
BEGIN:VEVENT
DTSTART;VALUE=DATE:20251015
DTEND;VALUE=DATE:20251016
DTSTAMP:20260424T225758
CREATED:20210921T124039Z
LAST-MODIFIED:20251001T110808Z
UID:3977-1760486400-1760572799@asociatiaprematurilor.ro
SUMMARY:Ziua Mondială a Spălatului pe Mâini
DESCRIPTION:
URL:https://asociatiaprematurilor.ro/event/ziua-mondiala-a-spalatului-pe-maini/
CATEGORIES:Zile Internationale
ATTACH;FMTTYPE=image/png:https://asociatiaprematurilor.ro/wp-content/uploads/2021/09/Ziua-Internationala-a-Spalatului-pe-Maini.png
END:VEVENT
END:VCALENDAR